BEGIN:VCALENDAR
VERSION:2.0
PRODID:-//Tukios.com/
BEGIN:VEVENT
UID:ad269320-2d4f-4133-bbc1-0bf55ab8d696@www.tharpfuneralhome.com
DTSTAMP:20260424T234211Z
DTSTART:20260523T150000Z
DTEND:20260523T160000Z
SUMMARY:Celebration of Life
DESCRIPTION:
URL:https://www.tharpfuneralhome.com/obituaries/walter-poindexter
LOCATION:Pierce Funeral Home Chapel 9609 Center Street  Manassas VA 20110
GEO:38.7521781;-77.4860837
END:VEVENT
END:VCALENDAR