BEGIN:VCALENDAR
VERSION:2.0
PRODID:-//Tukios.com/
BEGIN:VEVENT
UID:f8bfb2a6-2888-4a8f-81cb-be3a5d8ef5c4@www.tharpfuneralhome.com
DTSTAMP:20260424T200030Z
DTSTART:20260516T161200Z
DTEND:20260516T171200Z
SUMMARY:Celebration of Life
DESCRIPTION:
URL:https://www.tharpfuneralhome.com/obituaries/stephen-castagne
LOCATION:Parkway Marina 16918 Smith Mountain Lake Parkway  Huddleston VA 
	24104
GEO:37.0504726;-79.5850224
END:VEVENT
END:VCALENDAR