BEGIN:VCALENDAR
VERSION:2.0
PRODID:-//Tukios.com/
BEGIN:VEVENT
UID:632150d4-851c-44a1-8aad-a9b2472fdfd1@www.tharpfuneralhome.com
DTSTAMP:20260420T191650Z
DTSTART:20260422T150000Z
DTEND:20260422T160000Z
SUMMARY:Memorial Service
DESCRIPTION:
URL:https://www.tharpfuneralhome.com/obituaries/patsy-ann-loving-joy
LOCATION:Calvary Baptist Church 20957 Timberlake Road  Lynchburg VA 24502
GEO:37.3356702;-79.2426099
END:VEVENT
END:VCALENDAR