BEGIN:VCALENDAR
VERSION:2.0
PRODID:-//Tukios.com/
BEGIN:VEVENT
UID:2adcd7e3-3639-40bf-926a-a84b38a06aee@www.tharpfuneralhome.com
DTSTAMP:20260420T191440Z
DTSTART:20260421T220000Z
DTEND:20260422T000000Z
SUMMARY:Visitation
DESCRIPTION:
URL:https://www.tharpfuneralhome.com/obituaries/patsy-ann-loving-joy
LOCATION: 220 Breezewood Drive  Lynchburg VA 24502
GEO:37.39186;-79.2233473
END:VEVENT
END:VCALENDAR