BEGIN:VCALENDAR
VERSION:2.0
PRODID:-//Tukios.com/
BEGIN:VEVENT
UID:868dbf47-2f4c-4cde-8f6c-d26879af9f46@www.tharpfuneralhome.com
DTSTAMP:20260424T230429Z
DTSTART:20260428T180000Z
DTEND:20260428T190000Z
SUMMARY:Funeral Service
DESCRIPTION:
URL:https://www.tharpfuneralhome.com/obituaries/jean-saunders
LOCATION: 220 Breezewood Drive  Lynchburg VA 24502
GEO:37.39186;-79.2233473
END:VEVENT
END:VCALENDAR