BEGIN:VCALENDAR
VERSION:2.0
PRODID:-//Tukios.com/
BEGIN:VEVENT
UID:25cbd01f-a506-43cb-b56b-1189dd919f48@www.tharpfuneralhome.com
DTSTAMP:20260424T230126Z
DTSTART:20260428T160000Z
DTEND:20260428T180000Z
SUMMARY:Visitation
DESCRIPTION:
URL:https://www.tharpfuneralhome.com/obituaries/jean-saunders
LOCATION: 220 Breezewood Drive  Lynchburg VA 24502
GEO:37.39186;-79.2233473
END:VEVENT
END:VCALENDAR