BEGIN:VCALENDAR
VERSION:2.0
PRODID:-//Tukios.com/
BEGIN:VEVENT
UID:a34edd5e-6cd6-481e-888e-2dbf6b7b18bd@www.tharpfuneralhome.com
DTSTAMP:20260421T234008Z
DTSTART:20260424T140000Z
DTEND:20260424T150000Z
SUMMARY:Visitation
DESCRIPTION:
URL:https://www.tharpfuneralhome.com/obituaries/helen-dooley
LOCATION: 220 Breezewood Dr  Lynchburg VA 24502
GEO:37.3917979;-79.223367
END:VEVENT
END:VCALENDAR