BEGIN:VCALENDAR
VERSION:2.0
PRODID:-//Tukios.com/
BEGIN:VEVENT
UID:bc48fb35-47a1-4058-a2bf-54fe9c8be33e@www.tharpfuneralhome.com
DTSTAMP:20260421T091134Z
DTSTART:20260423T160000Z
DTEND:20260423T170000Z
SUMMARY:Graveside Service
DESCRIPTION:
URL:https://www.tharpfuneralhome.com/obituaries/daniel-patrom
LOCATION:Dale Memorial Park 10201 Newbys Bridge Road  Chesterfield VA 
	23832
GEO:37.3969855;-77.5779907
END:VEVENT
END:VCALENDAR