BEGIN:VCALENDAR
VERSION:2.0
PRODID:-//Tukios.com/
BEGIN:VEVENT
UID:01074bad-54cb-4108-ac29-b888d4063d94@www.tharpfuneralhome.com
DTSTAMP:20260421T214238Z
DTSTART:20260424T150000Z
DTEND:20260424T160000Z
SUMMARY:Graveside Service
DESCRIPTION:
URL:https://www.tharpfuneralhome.com/obituaries/carol-brown
LOCATION:Big Island Baptist Church Cemetery 1329 Sunset Hill Rd  Big 
	Island VA 24526
GEO:37.5343654;-79.36221
END:VEVENT
END:VCALENDAR