BEGIN:VCALENDAR
VERSION:2.0
PRODID:-//Tukios.com/
BEGIN:VEVENT
UID:64db9af7-a1e7-42b7-bbdf-aa9175171d2a@www.tharpfuneralhome.com
DTSTAMP:20260421T214259Z
DTSTART:20260423T210000Z
DTEND:20260423T230000Z
SUMMARY:Visitation
DESCRIPTION:
URL:https://www.tharpfuneralhome.com/obituaries/carol-brown
LOCATION: 320 N Bridge St  Bedford VA 24523
GEO:37.3374431;-79.521746
END:VEVENT
END:VCALENDAR